BEGIN:VCALENDAR
VERSION:2.0
PRODID:-//Tápió Natúrpark - ECPv5.1.1//NONSGML v1.0//EN
CALSCALE:GREGORIAN
METHOD:PUBLISH
X-WR-CALNAME:Tápió Natúrpark
X-ORIGINAL-URL:https://tapionaturpark.hu
X-WR-CALDESC:Events for Tápió Natúrpark
BEGIN:VTIMEZONE
TZID:Europe/Paris
BEGIN:DAYLIGHT
TZOFFSETFROM:+0100
TZOFFSETTO:+0200
TZNAME:CEST
DTSTART:20220327T010000
END:DAYLIGHT
BEGIN:STANDARD
TZOFFSETFROM:+0200
TZOFFSETTO:+0100
TZNAME:CET
DTSTART:20221030T010000
END:STANDARD
END:VTIMEZONE
BEGIN:VEVENT
DTSTART;VALUE=DATE:20221119
DTEND;VALUE=DATE:20221120
DTSTAMP:20260425T103712
CREATED:20220517T135622Z
LAST-MODIFIED:20220517T135622Z
UID:4356-1668816000-1668902399@tapionaturpark.hu
SUMMARY:Csuhajja Néptánc Gála és Táncház  (Farmos)
DESCRIPTION:
URL:https://tapionaturpark.hu/esemenyek/csuhajja-neptanc-gala-es-tanchaz-farmos/
LOCATION:Farmos\, Farmos\, Pest megye\, 2765\, Magyarország
CATEGORIES:Közösségi esemény
END:VEVENT
END:VCALENDAR