BEGIN:VCALENDAR
VERSION:2.0
PRODID:-//Tápió Natúrpark - ECPv5.1.1//NONSGML v1.0//EN
CALSCALE:GREGORIAN
METHOD:PUBLISH
X-WR-CALNAME:Tápió Natúrpark
X-ORIGINAL-URL:https://tapionaturpark.hu
X-WR-CALDESC:Events for Tápió Natúrpark
BEGIN:VTIMEZONE
TZID:Europe/Paris
BEGIN:DAYLIGHT
TZOFFSETFROM:+0100
TZOFFSETTO:+0200
TZNAME:CEST
DTSTART:20220327T010000
END:DAYLIGHT
BEGIN:STANDARD
TZOFFSETFROM:+0200
TZOFFSETTO:+0100
TZNAME:CET
DTSTART:20221030T010000
END:STANDARD
END:VTIMEZONE
BEGIN:VEVENT
DTSTART;VALUE=DATE:20221112
DTEND;VALUE=DATE:20221113
DTSTAMP:20260425T104709
CREATED:20220517T135430Z
LAST-MODIFIED:20220517T135430Z
UID:4353-1668211200-1668297599@tapionaturpark.hu
SUMMARY:Szent Márton Emlékfutás (Szentmártonkáta)
DESCRIPTION:A Szent Márton Emlékfutás a Márton Napi rendezvények egyik fő momentuma\, zenés bemelegítést Követően mindenki le futhatja\, vagy sétálhatja a saját távját. Ezt követően közös kis pihenés várja a résztvevőket. \n
URL:https://tapionaturpark.hu/esemenyek/szent-marton-emlekfutas-szentmartonkata/
CATEGORIES:Futóverseny,Közösségi esemény
END:VEVENT
END:VCALENDAR