BEGIN:VCALENDAR
VERSION:2.0
PRODID:-//Tápió Natúrpark - ECPv5.1.1//NONSGML v1.0//EN
CALSCALE:GREGORIAN
METHOD:PUBLISH
X-WR-CALNAME:Tápió Natúrpark
X-ORIGINAL-URL:https://tapionaturpark.hu
X-WR-CALDESC:Events for Tápió Natúrpark
BEGIN:VTIMEZONE
TZID:Europe/Paris
BEGIN:DAYLIGHT
TZOFFSETFROM:+0100
TZOFFSETTO:+0200
TZNAME:CEST
DTSTART:20220327T010000
END:DAYLIGHT
BEGIN:STANDARD
TZOFFSETFROM:+0200
TZOFFSETTO:+0100
TZNAME:CET
DTSTART:20221030T010000
END:STANDARD
END:VTIMEZONE
BEGIN:VEVENT
DTSTART;TZID=Europe/Paris:20221112T100000
DTEND;TZID=Europe/Paris:20221112T150000
DTSTAMP:20260425T105944
CREATED:20221011T072429Z
LAST-MODIFIED:20221011T072429Z
UID:4469-1668247200-1668265200@tapionaturpark.hu
SUMMARY:Tájséta az Ürgék nyomában (Tápiószecső)
DESCRIPTION:Az Európai Táj Egyezmény végrehajtásához kapcsolódó kezdeményezést a strasbourgi székhelyű Európa Tanács indította el 2017-ben. A kezdeményezés nagyszerű alkalom arra\, hogy felhívjuk a társadalom minél szélesebb körének figyelmét a tájban rejlő értékekre\, a táji örökség megőrzésének fontosságára. Az Európa Tanács minden évben meghatároz egy témát\, mely 2022-ben a következő: Egészségünk és a minket körülvevő táj minőségének kapcsolata.\n \n2017-től a hazai natúrparkok is mintaadó jelleggel szerveznek programokat a Tájnapi tájséták natúrparkjainkban címmel. Az idei évben a Tápió Natúrpark is csatlakozik jelen országos összefogáshoz. A rendezvénysorozat koordinációját a Magyar Natúrpark Szövetség biztosítja Magyarországon!\nA Tápió-vidék Természeti Értékeiért Közalapítvány először szervezi meg tájsétáját Tápiószecsőre az Ürgés Tanösvényre\, mely a község déli határában húzódó nagy kiterjedésű legelőről kapta a nevét\, hiszen a mai napig népes ürgepopuláció él ezen a területen.\n \nRövid ismertető:\nA szakvezetett terepbejárás során a résztvevők megismerkedhetnek a terület ürge populációjával\, valamint a tájban élő gazdálkodókkal. Számos más élőhelyet is láthatunk a hosszú\, többféleképpen is bejárható tanösvény mentén. A Tápió völgyében találhatunk dús füvű lápréteket\, bokorfüzeseket. A Kisperjés területén felhagyott gyümölcsösöket és egykori szőlőterületeket. Megtekinthetjük a Lázok birtok szőlőültetvényit\, boros pincéjét\, a birtokról elénk táruló panoráma kilátást is\, valamint rövid ismertetőt hallhatunk a birtok múlt béli és jelenlegi életéről. A birtokon való tartózkodás alkalmával finom ételek és italok megkóstolására is van lehetőség\, melynek tartalma egy 6 tételes borkóstoló sajttállal és zsíros kenyérrel melynek költsége 3800 ft/fő (önköltséges). Ezen felül lehetőség nyílik a birtok egyedi termékeinek megvásárlására is (borok pálinkák\, levendulás termékek és forralt bor).\n \nA program a Tápió-vidék Természeti Értékeiért Közalapítvány ötlete alapján jön létre\, melyhez az Agrárminisztérium nyújt támogatást.\n \nA túra időtartama: 3 óra hossza: 5 km.\n \nTalálkozási pont: Alsó – Tápió kőhídjánál\n \nFelszerelés öltözet: túrabakancs\, időjárásnak megfelelő ruházat\n \nTúravezető: Bozóki Balázs (biológus\, zoológus)\n \nTúra díja: INGYENES\, de előzetes regisztrációhoz kötött\, mely az alábbi elérhetőségeken tehető meg.\nMaximum létszám: 30 fő.\n \nJelentkezési határidő: 2022. november 5.\n \nElérhetőségek:\ntapio.naturpark@gmail.com\n+3620/2368020 – Gulyás Mercédesz\n+3620/2576670 – Szarvas Angéla\n  \n
URL:https://tapionaturpark.hu/esemenyek/tajseta-az-urgek-nyomaban-tapioszecso/
LOCATION:Tápiószecső\, Magyarország
CATEGORIES:Túra,Zöld
END:VEVENT
END:VCALENDAR