BEGIN:VCALENDAR
VERSION:2.0
PRODID:-//Tápió Natúrpark - ECPv5.1.1//NONSGML v1.0//EN
CALSCALE:GREGORIAN
METHOD:PUBLISH
X-WR-CALNAME:Tápió Natúrpark
X-ORIGINAL-URL:https://tapionaturpark.hu
X-WR-CALDESC:Events for Tápió Natúrpark
BEGIN:VTIMEZONE
TZID:Europe/Paris
BEGIN:DAYLIGHT
TZOFFSETFROM:+0100
TZOFFSETTO:+0200
TZNAME:CEST
DTSTART:20220327T010000
END:DAYLIGHT
BEGIN:STANDARD
TZOFFSETFROM:+0200
TZOFFSETTO:+0100
TZNAME:CET
DTSTART:20221030T010000
END:STANDARD
END:VTIMEZONE
BEGIN:VEVENT
DTSTART;VALUE=DATE:20221203
DTEND;VALUE=DATE:20221204
DTSTAMP:20260425T110058
CREATED:20220517T140116Z
LAST-MODIFIED:20220517T140116Z
UID:4360-1670025600-1670111999@tapionaturpark.hu
SUMMARY:Téli Tókerülő Teljesítménytúra
DESCRIPTION:A Téli élővilág és táj megismerésére tökéletes túra.  Várnak minden kedves érdeklődőt a Tápió-vidék teljesítménytúráira. \n
URL:https://tapionaturpark.hu/esemenyek/teli-tokerulo-teljesitmenytura/
CATEGORIES:Túra
END:VEVENT
END:VCALENDAR